BEGIN:VCALENDAR
VERSION:2.0
PRODID:-//Lincoln - Best WordPress Education Theme
CALSCALE:GREGORIAN
METHOD:PUBLISH
X-WR-CALNAME:Lincoln - Best WordPress Education Theme
X-ORIGINAL-URL:https://demo.lunartheme.com/lincoln-rtl/k-event/history-of-art-information-event/
X-WR-CALDESC:History of Art Information Event
BEGIN:VEVENT
DTSTART:
DTEND:
SUMMARY:History of Art Information Event
DESCRIPTION:
LOCATION:
END:VEVENT
END:VCALENDAR
