BEGIN:VCALENDAR
VERSION:2.0
PRODID:-//Lincoln - Best WordPress Education Theme
CALSCALE:GREGORIAN
METHOD:PUBLISH
X-WR-CALNAME:Lincoln - Best WordPress Education Theme
X-ORIGINAL-URL:https://demo.lunartheme.com/lincoln-rtl/k-event/parent-learning-events/
X-WR-CALDESC:Year 10 Parent Learning Event
BEGIN:VEVENT
DTSTART:
DTEND:
SUMMARY:Year 10 Parent Learning Event
DESCRIPTION:
LOCATION:
END:VEVENT
END:VCALENDAR
