BEGIN:VCALENDAR
VERSION:2.0
PRODID:-//Lincoln - Best WordPress Education Theme
CALSCALE:GREGORIAN
METHOD:PUBLISH
X-WR-CALNAME:Lincoln - Best WordPress Education Theme
X-ORIGINAL-URL:https://demo.lunartheme.com/lincoln-fr/k-event/guadeamus-prague-2016/
X-WR-CALDESC:Guadeamus Prague 2017
BEGIN:VEVENT
DTSTART:
DTEND:
SUMMARY:Guadeamus Prague 2017
DESCRIPTION:Une série de salons de l'éducation Gaudeamus a lieu chaque année à Nitra (Slovaquie), Brno et Prague
LOCATION:
END:VEVENT
END:VCALENDAR
