BEGIN:VCALENDAR
VERSION:2.0
PRODID:-//Lincoln - Best WordPress Education Theme
CALSCALE:GREGORIAN
METHOD:PUBLISH
X-WR-CALNAME:Lincoln - Best WordPress Education Theme
X-ORIGINAL-URL:https://demo.lunartheme.com/lincoln-fr/en/k-event/get-started-evening/
X-WR-CALDESC:Get Started Evening in August
BEGIN:VEVENT
DTSTART:
DTEND:
SUMMARY:Get Started Evening in August
DESCRIPTION:
LOCATION:
END:VEVENT
END:VCALENDAR
