BEGIN:VCALENDAR
VERSION:2.0
PRODID:-//Lincoln - Best WordPress Education Theme
CALSCALE:GREGORIAN
METHOD:PUBLISH
X-WR-CALNAME:Lincoln - Best WordPress Education Theme
X-ORIGINAL-URL:https://demo.lunartheme.com/lincoln-fr/en/k-event/frontiers-of-fifteenth-century-art/
X-WR-CALDESC:Frontiers of Fifteenth &#8211; Century Art
BEGIN:VEVENT
DTSTART:
DTEND:
SUMMARY:Frontiers of Fifteenth &#8211; Century Art
DESCRIPTION:The conference concentrates on Central and Eastern Europe as rich and complex regions of critical importance in the modern world but whose artistic heritages are little known and little understood.
LOCATION:
END:VEVENT
END:VCALENDAR
