BEGIN:VCALENDAR
VERSION:2.0
PRODID:-//Lincoln - Best WordPress Education Theme
CALSCALE:GREGORIAN
METHOD:PUBLISH
X-WR-CALNAME:Lincoln - Best WordPress Education Theme
X-ORIGINAL-URL:https://demo.lunartheme.com/lincoln-fr/en/k-event/future-focus-career-workshop/
X-WR-CALDESC:Future Focus &#8211; Career Workshop
BEGIN:VEVENT
DTSTART:
DTEND:
SUMMARY:Future Focus &#8211; Career Workshop
DESCRIPTION:
LOCATION:
END:VEVENT
END:VCALENDAR
