BEGIN:VCALENDAR
VERSION:2.0
PRODID:-//Lincoln - Best WordPress Education Theme
CALSCALE:GREGORIAN
METHOD:PUBLISH
X-WR-CALNAME:Lincoln - Best WordPress Education Theme
X-ORIGINAL-URL:https://demo.lunartheme.com/lincoln-fr/en/k-event/camera-work-exhibition/
X-WR-CALDESC:Camera Work &#8211; Art Exhibition 2015
BEGIN:VEVENT
DTSTART:
DTEND:
SUMMARY:Camera Work &#8211; Art Exhibition 2015
DESCRIPTION:
LOCATION:
END:VEVENT
END:VCALENDAR
