BEGIN:VCALENDAR
VERSION:2.0
PRODID:-//Lincoln - Best WordPress Education Theme
CALSCALE:GREGORIAN
METHOD:PUBLISH
X-WR-CALNAME:Lincoln - Best WordPress Education Theme
X-ORIGINAL-URL:https://demo.lunartheme.com/lincoln-fr/en/k-event/summer-youth-career-exposure/
X-WR-CALDESC:Summer Youth Career Exposure
BEGIN:VEVENT
DTSTART:
DTEND:
SUMMARY:Summer Youth Career Exposure
DESCRIPTION:
LOCATION:
END:VEVENT
END:VCALENDAR
