BEGIN:VCALENDAR
VERSION:2.0
PRODID:-//Aslan
CALSCALE:GREGORIAN
METHOD:PUBLISH
X-WR-CALNAME:Aslan
X-ORIGINAL-URL:https://demo.lunartheme.com/aslan/k-event/yoga-rocks-the-park%e2%80%a8/
X-WR-CALDESC:Yoga Rocks The Park
BEGIN:VEVENT
DTSTART:
DTEND:
SUMMARY:Yoga Rocks The Park
DESCRIPTION:
LOCATION:
END:VEVENT
END:VCALENDAR
